BEGIN:VCALENDAR
VERSION:2.0
PRODID:-//Tukios.com/
BEGIN:VEVENT
UID:263d061f-3b14-4093-b789-e89fb8e77795@www.garrfuneralservices.com
DTSTAMP:20260421T184411Z
DTSTART:20260423T150000Z
DTEND:20260423T160000Z
SUMMARY:Funeral Service
DESCRIPTION:
URL:https://www.garrfuneralservices.com/obituaries/william-nokes
LOCATION:Garr Funeral Home 7806 Hwy 311  Sellersburg IN 47172
GEO:38.3850514;-85.7663723
END:VEVENT
END:VCALENDAR