BEGIN:VCALENDAR
VERSION:2.0
PRODID:-//Tukios.com/
BEGIN:VEVENT
UID:b99f0d7d-dd27-4301-adc5-ee64db463b61@www.garrfuneralservices.com
DTSTAMP:20260421T185010Z
DTSTART:20260422T200000Z
DTEND:20260423T000000Z
SUMMARY:Visitation
DESCRIPTION:
URL:https://www.garrfuneralservices.com/obituaries/william-nokes
LOCATION:Garr Funeral Home 7806 Hwy 311  Sellersburg IN 47172
GEO:38.3850514;-85.7663723
END:VEVENT
END:VCALENDAR