BEGIN:VCALENDAR
VERSION:2.0
PRODID:-//Tukios.com/
BEGIN:VEVENT
UID:a752a8e9-aa3b-4bcf-86e9-cac6a5408ced@www.garrfuneralservices.com
DTSTAMP:20260424T071824Z
DTSTART:20260426T210000Z
DTEND:20260426T220000Z
SUMMARY:Funeral Service
DESCRIPTION:
URL:https://www.garrfuneralservices.com/obituaries/michael-francis
LOCATION:Garr Funeral Home 7806 Hwy 311  Sellersburg IN 47172
GEO:38.3850514;-85.7663723
END:VEVENT
END:VCALENDAR