BEGIN:VCALENDAR
VERSION:2.0
PRODID:-//Tukios.com/
BEGIN:VEVENT
UID:b306002f-06ab-454a-830e-dedd553cad9d@www.garrfuneralservices.com
DTSTAMP:20260424T072043Z
DTSTART:20260426T180000Z
DTEND:20260426T210000Z
SUMMARY:Visitation
DESCRIPTION:
URL:https://www.garrfuneralservices.com/obituaries/michael-francis
LOCATION:Garr Funeral Home 7806 Hwy 311  Sellersburg IN 47172
GEO:38.3850514;-85.7663723
END:VEVENT
END:VCALENDAR