BEGIN:VCALENDAR
VERSION:2.0
PRODID:-//Tukios.com/
BEGIN:VEVENT
UID:68454c52-d36e-43b2-8962-7e5f8b207b3a@www.garrfuneralservices.com
DTSTAMP:20260422T002739Z
DTSTART:20260425T153000Z
DTEND:20260425T173000Z
SUMMARY:Visitation
DESCRIPTION:
URL:https://www.garrfuneralservices.com/obituaries/mary-hood
LOCATION:Garr Funeral Home 7806 Hwy 311  Sellersburg IN 47172
GEO:38.3850514;-85.7663723
END:VEVENT
END:VCALENDAR