BEGIN:VCALENDAR
VERSION:2.0
PRODID:-//Tukios.com/
BEGIN:VEVENT
UID:90aa9aa0-0f06-4e75-9153-44fd612cf7ea@www.garrfuneralservices.com
DTSTAMP:20260422T002501Z
DTSTART:20260425T140000Z
DTEND:20260425T150000Z
SUMMARY:Mass
DESCRIPTION:
URL:https://www.garrfuneralservices.com/obituaries/mary-hood
LOCATION: 101 St. Michael Drive  Charlestown IN 47111
GEO:38.4561589;-85.6627928
END:VEVENT
END:VCALENDAR